BEGIN:VCALENDAR
VERSION:2.0
PRODID:-//Melville United Church - ECPv6.15.20//NONSGML v1.0//EN
CALSCALE:GREGORIAN
METHOD:PUBLISH
X-WR-CALNAME:Melville United Church
X-ORIGINAL-URL:https://melvilleunited.com
X-WR-CALDESC:Events for Melville United Church
REFRESH-INTERVAL;VALUE=DURATION:PT1H
X-Robots-Tag:noindex
X-PUBLISHED-TTL:PT1H
BEGIN:VTIMEZONE
TZID:America/Toronto
BEGIN:DAYLIGHT
TZOFFSETFROM:-0500
TZOFFSETTO:-0400
TZNAME:EDT
DTSTART:20250309T070000
END:DAYLIGHT
BEGIN:STANDARD
TZOFFSETFROM:-0400
TZOFFSETTO:-0500
TZNAME:EST
DTSTART:20251102T060000
END:STANDARD
BEGIN:DAYLIGHT
TZOFFSETFROM:-0500
TZOFFSETTO:-0400
TZNAME:EDT
DTSTART:20260308T070000
END:DAYLIGHT
BEGIN:STANDARD
TZOFFSETFROM:-0400
TZOFFSETTO:-0500
TZNAME:EST
DTSTART:20261101T060000
END:STANDARD
BEGIN:DAYLIGHT
TZOFFSETFROM:-0500
TZOFFSETTO:-0400
TZNAME:EDT
DTSTART:20270314T070000
END:DAYLIGHT
BEGIN:STANDARD
TZOFFSETFROM:-0400
TZOFFSETTO:-0500
TZNAME:EST
DTSTART:20271107T060000
END:STANDARD
END:VTIMEZONE
BEGIN:VEVENT
DTSTART;TZID=America/Toronto:20260510T110000
DTEND;TZID=America/Toronto:20260510T120000
DTSTAMP:20260422T181531
CREATED:20260422T145705Z
LAST-MODIFIED:20260422T145705Z
UID:1330-1778410800-1778414400@melvilleunited.com
SUMMARY:Sunday Service
DESCRIPTION:Rev. Tom Watson
URL:https://melvilleunited.com/event/sunday-service-2/
LOCATION:Melville United Church\, 300 St. Andrew Street West\, Fergus\, ON\, N1M 2W7\, Canada
END:VEVENT
BEGIN:VEVENT
DTSTART;TZID=America/Toronto:20260517T110000
DTEND;TZID=America/Toronto:20260517T120000
DTSTAMP:20260422T181531
CREATED:20260422T145809Z
LAST-MODIFIED:20260422T145809Z
UID:1332-1779015600-1779019200@melvilleunited.com
SUMMARY:Sunday Service
DESCRIPTION:Rev. Linda Butler
URL:https://melvilleunited.com/event/sunday-service-3/
LOCATION:Melville United Church\, 300 St. Andrew Street West\, Fergus\, ON\, N1M 2W7\, Canada
END:VEVENT
END:VCALENDAR