BEGIN:VCALENDAR
VERSION:2.0
PRODID:-//Melville United Church - ECPv6.15.20//NONSGML v1.0//EN
CALSCALE:GREGORIAN
METHOD:PUBLISH
X-WR-CALNAME:Melville United Church
X-ORIGINAL-URL:https://melvilleunited.com
X-WR-CALDESC:Events for Melville United Church
REFRESH-INTERVAL;VALUE=DURATION:PT1H
X-Robots-Tag:noindex
X-PUBLISHED-TTL:PT1H
BEGIN:VTIMEZONE
TZID:America/Toronto
BEGIN:DAYLIGHT
TZOFFSETFROM:-0500
TZOFFSETTO:-0400
TZNAME:EDT
DTSTART:20250309T070000
END:DAYLIGHT
BEGIN:STANDARD
TZOFFSETFROM:-0400
TZOFFSETTO:-0500
TZNAME:EST
DTSTART:20251102T060000
END:STANDARD
BEGIN:DAYLIGHT
TZOFFSETFROM:-0500
TZOFFSETTO:-0400
TZNAME:EDT
DTSTART:20260308T070000
END:DAYLIGHT
BEGIN:STANDARD
TZOFFSETFROM:-0400
TZOFFSETTO:-0500
TZNAME:EST
DTSTART:20261101T060000
END:STANDARD
BEGIN:DAYLIGHT
TZOFFSETFROM:-0500
TZOFFSETTO:-0400
TZNAME:EDT
DTSTART:20270314T070000
END:DAYLIGHT
BEGIN:STANDARD
TZOFFSETFROM:-0400
TZOFFSETTO:-0500
TZNAME:EST
DTSTART:20271107T060000
END:STANDARD
END:VTIMEZONE
BEGIN:VEVENT
DTSTART;TZID=America/Toronto:20260429T120000
DTEND;TZID=America/Toronto:20260429T130000
DTSTAMP:20260422T182033
CREATED:20260422T144238Z
LAST-MODIFIED:20260422T144238Z
UID:1320-1777464000-1777467600@melvilleunited.com
SUMMARY:Mid-Day Music at Melville
DESCRIPTION:The concert series “Mid-Day Music at Melville”\,presented and performed by pianist and singer Brad Halls\, continues with its 4th season of concerts on Wednesdays at Melville United Church beginning at 12 noon and continuing until about 1 p.m. \nPart 2 of 2. This week\, Brad continues to explore great songs that “Pop the Question”.   Come and enjoy great songs by composers and lyricists from Rodgers and Hammerstein\, Lerner and Loewe\, Michel Legrand\, Carole King and others. \nAs always\, there is no admission charge to any of these performances\, although a completely voluntary donation to Melville United Church\, to help keep the lights on and the piano tuned\, is always appreciated.
URL:https://melvilleunited.com/event/mid-day-music-at-melville-5/
LOCATION:Melville United Church\, 300 St. Andrew Street West\, Fergus\, ON\, N1M 2W7\, Canada
ATTACH;FMTTYPE=image/jpeg:https://melvilleunited.com/wp-content/uploads/2026/03/Brad-Halls-Wed-music-1.jpg
END:VEVENT
BEGIN:VEVENT
DTSTART;TZID=America/Toronto:20260503T110000
DTEND;TZID=America/Toronto:20260503T120000
DTSTAMP:20260422T182033
CREATED:20260422T145433Z
LAST-MODIFIED:20260422T145433Z
UID:1328-1777806000-1777809600@melvilleunited.com
SUMMARY:Sunday Service - Mental Health
DESCRIPTION:Melville’s Social Justice Team will be leading this service recognizing Mental Health Sunday.
URL:https://melvilleunited.com/event/sunday-service-mental-health/
LOCATION:Melville United Church\, 300 St. Andrew Street West\, Fergus\, ON\, N1M 2W7\, Canada
END:VEVENT
BEGIN:VEVENT
DTSTART;TZID=America/Toronto:20260506T120000
DTEND;TZID=America/Toronto:20260506T130000
DTSTAMP:20260422T182033
CREATED:20260422T144916Z
LAST-MODIFIED:20260422T144916Z
UID:1323-1778068800-1778072400@melvilleunited.com
SUMMARY:Mid-Day Music at Melville season finale
DESCRIPTION:This is the 4th season finale for the “Mid-Day Music at Melville” series\, presented and performed by pianist and singer Brad Halls. Wednesday\, at Melville United Church beginning at 12 noon and continuing until about 1 p.m. \nWatch for information about songs and composers. \nAs always\, there is no admission charge to any of these performances\, although a completely voluntary donation to Melville United Church\, to help keep the lights on and the piano tuned\, is always appreciated.
URL:https://melvilleunited.com/event/mid-day-music-at-melville-season-finale/
LOCATION:Melville United Church\, 300 St. Andrew Street West\, Fergus\, ON\, N1M 2W7\, Canada
ATTACH;FMTTYPE=image/jpeg:https://melvilleunited.com/wp-content/uploads/2026/03/Brad-Halls-Wed-music-1.jpg
END:VEVENT
BEGIN:VEVENT
DTSTART;TZID=America/Toronto:20260510T110000
DTEND;TZID=America/Toronto:20260510T120000
DTSTAMP:20260422T182033
CREATED:20260422T145705Z
LAST-MODIFIED:20260422T145705Z
UID:1330-1778410800-1778414400@melvilleunited.com
SUMMARY:Sunday Service
DESCRIPTION:Rev. Tom Watson
URL:https://melvilleunited.com/event/sunday-service-2/
LOCATION:Melville United Church\, 300 St. Andrew Street West\, Fergus\, ON\, N1M 2W7\, Canada
END:VEVENT
BEGIN:VEVENT
DTSTART;TZID=America/Toronto:20260517T110000
DTEND;TZID=America/Toronto:20260517T120000
DTSTAMP:20260422T182033
CREATED:20260422T145809Z
LAST-MODIFIED:20260422T145809Z
UID:1332-1779015600-1779019200@melvilleunited.com
SUMMARY:Sunday Service
DESCRIPTION:Rev. Linda Butler
URL:https://melvilleunited.com/event/sunday-service-3/
LOCATION:Melville United Church\, 300 St. Andrew Street West\, Fergus\, ON\, N1M 2W7\, Canada
END:VEVENT
END:VCALENDAR