BEGIN:VCALENDAR
VERSION:2.0
PRODID:-//Melville United Church - ECPv6.15.20//NONSGML v1.0//EN
CALSCALE:GREGORIAN
METHOD:PUBLISH
X-WR-CALNAME:Melville United Church
X-ORIGINAL-URL:https://melvilleunited.com
X-WR-CALDESC:Events for Melville United Church
REFRESH-INTERVAL;VALUE=DURATION:PT1H
X-Robots-Tag:noindex
X-PUBLISHED-TTL:PT1H
BEGIN:VTIMEZONE
TZID:America/Toronto
BEGIN:DAYLIGHT
TZOFFSETFROM:-0500
TZOFFSETTO:-0400
TZNAME:EDT
DTSTART:20250309T070000
END:DAYLIGHT
BEGIN:STANDARD
TZOFFSETFROM:-0400
TZOFFSETTO:-0500
TZNAME:EST
DTSTART:20251102T060000
END:STANDARD
BEGIN:DAYLIGHT
TZOFFSETFROM:-0500
TZOFFSETTO:-0400
TZNAME:EDT
DTSTART:20260308T070000
END:DAYLIGHT
BEGIN:STANDARD
TZOFFSETFROM:-0400
TZOFFSETTO:-0500
TZNAME:EST
DTSTART:20261101T060000
END:STANDARD
BEGIN:DAYLIGHT
TZOFFSETFROM:-0500
TZOFFSETTO:-0400
TZNAME:EDT
DTSTART:20270314T070000
END:DAYLIGHT
BEGIN:STANDARD
TZOFFSETFROM:-0400
TZOFFSETTO:-0500
TZNAME:EST
DTSTART:20271107T060000
END:STANDARD
END:VTIMEZONE
BEGIN:VEVENT
DTSTART;TZID=America/Toronto:20260425T150000
DTEND;TZID=America/Toronto:20260425T163000
DTSTAMP:20260422T113850
CREATED:20260327T005208Z
LAST-MODIFIED:20260328T232151Z
UID:1013-1777129200-1777134600@melvilleunited.com
SUMMARY:Centre Wellington Singers
DESCRIPTION:The Centre Wellington Singers will be celebrating their 30th anniversary with their Spring Concert 2026\, “Canada Eh!”. \nThe program will showcase beloved songs by iconic Canadian artists\, along side traditional favourites including The Good Old Hockey Game. \nAfter the performance\, audience members are invited to stay for tea and treats in the church’s Fellowship Hall and mingle with the musicians. \nFor information or tickets\, check the Center Wellington Singers website.
URL:https://melvilleunited.com/event/spring-concert-2026/
LOCATION:Melville United Church\, 300 St. Andrew Street West\, Fergus\, ON\, N1M 2W7\, Canada
ATTACH;FMTTYPE=image/jpeg:https://melvilleunited.com/wp-content/uploads/2026/03/CW-Singers-2026-poster.jpg
END:VEVENT
END:VCALENDAR