BEGIN:VCALENDAR
VERSION:2.0
PRODID:-//Melville United Church - ECPv6.15.20//NONSGML v1.0//EN
CALSCALE:GREGORIAN
METHOD:PUBLISH
X-ORIGINAL-URL:https://melvilleunited.com
X-WR-CALDESC:Events for Melville United Church
REFRESH-INTERVAL;VALUE=DURATION:PT1H
X-Robots-Tag:noindex
X-PUBLISHED-TTL:PT1H
BEGIN:VTIMEZONE
TZID:America/Toronto
BEGIN:DAYLIGHT
TZOFFSETFROM:-0500
TZOFFSETTO:-0400
TZNAME:EDT
DTSTART:20250309T070000
END:DAYLIGHT
BEGIN:STANDARD
TZOFFSETFROM:-0400
TZOFFSETTO:-0500
TZNAME:EST
DTSTART:20251102T060000
END:STANDARD
BEGIN:DAYLIGHT
TZOFFSETFROM:-0500
TZOFFSETTO:-0400
TZNAME:EDT
DTSTART:20260308T070000
END:DAYLIGHT
BEGIN:STANDARD
TZOFFSETFROM:-0400
TZOFFSETTO:-0500
TZNAME:EST
DTSTART:20261101T060000
END:STANDARD
BEGIN:DAYLIGHT
TZOFFSETFROM:-0500
TZOFFSETTO:-0400
TZNAME:EDT
DTSTART:20270314T070000
END:DAYLIGHT
BEGIN:STANDARD
TZOFFSETFROM:-0400
TZOFFSETTO:-0500
TZNAME:EST
DTSTART:20271107T060000
END:STANDARD
END:VTIMEZONE
BEGIN:VEVENT
DTSTART;TZID=America/Toronto:20260408T120000
DTEND;TZID=America/Toronto:20260408T130000
DTSTAMP:20260422T114522
CREATED:20260327T021556Z
LAST-MODIFIED:20260406T161949Z
UID:1038-1775649600-1775653200@melvilleunited.com
SUMMARY:Mid-Day Music at Melville
DESCRIPTION:Come and join us for the next performance in the music series “Mid-Day Music at Melville”. \nThe concert series\, presented and performed by pianist and singer Brad Halls\, continues its 4th season. Join us Wednesday\, April 8\, 2026\, at Melville United Church in Fergus\, beginning at 12 noon and continuing until about 1 p.m. \nThis week is part 1 of 2 devoted to the “Great Songs from Great Britain“. Brad will be celebrating wonderful songs from talented British songwriters from Noel Coward to Elton John and many more. Come and enjoy classic songs such as “The VeryThought of You”\, “As Long As He Needs Me”\, “A Nightingale Sang in Berkeley Square”\, “Try a Little Tenderness” and many more. \nNo admission charge for these events but a voluntary donation to Melville United\, to help keep the lights on and piano tuned\, is always welcomed.
URL:https://melvilleunited.com/event/mid-day-music-at-melville-2/
LOCATION:Melville United Church\, 300 St. Andrew Street West\, Fergus\, ON\, N1M 2W7\, Canada
ATTACH;FMTTYPE=image/jpeg:https://melvilleunited.com/wp-content/uploads/2026/03/Brad-Halls-Wed-music-1.jpg
END:VEVENT
END:VCALENDAR