BEGIN:VCALENDAR
VERSION:2.0
PRODID:-//Melville United Church - ECPv6.15.20//NONSGML v1.0//EN
CALSCALE:GREGORIAN
METHOD:PUBLISH
X-WR-CALNAME:Melville United Church
X-ORIGINAL-URL:https://melvilleunited.com
X-WR-CALDESC:Events for Melville United Church
REFRESH-INTERVAL;VALUE=DURATION:PT1H
X-Robots-Tag:noindex
X-PUBLISHED-TTL:PT1H
BEGIN:VTIMEZONE
TZID:America/Toronto
BEGIN:DAYLIGHT
TZOFFSETFROM:-0500
TZOFFSETTO:-0400
TZNAME:EDT
DTSTART:20250309T070000
END:DAYLIGHT
BEGIN:STANDARD
TZOFFSETFROM:-0400
TZOFFSETTO:-0500
TZNAME:EST
DTSTART:20251102T060000
END:STANDARD
BEGIN:DAYLIGHT
TZOFFSETFROM:-0500
TZOFFSETTO:-0400
TZNAME:EDT
DTSTART:20260308T070000
END:DAYLIGHT
BEGIN:STANDARD
TZOFFSETFROM:-0400
TZOFFSETTO:-0500
TZNAME:EST
DTSTART:20261101T060000
END:STANDARD
BEGIN:DAYLIGHT
TZOFFSETFROM:-0500
TZOFFSETTO:-0400
TZNAME:EDT
DTSTART:20270314T070000
END:DAYLIGHT
BEGIN:STANDARD
TZOFFSETFROM:-0400
TZOFFSETTO:-0500
TZNAME:EST
DTSTART:20271107T060000
END:STANDARD
END:VTIMEZONE
BEGIN:VEVENT
DTSTART;TZID=America/Toronto:20260419T110000
DTEND;TZID=America/Toronto:20260419T120000
DTSTAMP:20260422T113543
CREATED:20260413T195243Z
LAST-MODIFIED:20260413T195458Z
UID:1297-1776596400-1776600000@melvilleunited.com
SUMMARY:Sunday Service - Climate Change
DESCRIPTION:A Social Justice Team service with a focus on “Climate Change”.  The Social Justice Team and Kids’ Church invite everyone to a free Stone Soup luncheon after the service.
URL:https://melvilleunited.com/event/social-justice-service/
LOCATION:Melville United Church\, 300 St. Andrew Street West\, Fergus\, ON\, N1M 2W7\, Canada
END:VEVENT
END:VCALENDAR