BEGIN:VCALENDAR
VERSION:2.0
PRODID:-//Melville United Church - ECPv6.15.20//NONSGML v1.0//EN
CALSCALE:GREGORIAN
METHOD:PUBLISH
X-WR-CALNAME:Melville United Church
X-ORIGINAL-URL:https://melvilleunited.com
X-WR-CALDESC:Events for Melville United Church
REFRESH-INTERVAL;VALUE=DURATION:PT1H
X-Robots-Tag:noindex
X-PUBLISHED-TTL:PT1H
BEGIN:VTIMEZONE
TZID:America/Toronto
BEGIN:DAYLIGHT
TZOFFSETFROM:-0500
TZOFFSETTO:-0400
TZNAME:EDT
DTSTART:20250309T070000
END:DAYLIGHT
BEGIN:STANDARD
TZOFFSETFROM:-0400
TZOFFSETTO:-0500
TZNAME:EST
DTSTART:20251102T060000
END:STANDARD
BEGIN:DAYLIGHT
TZOFFSETFROM:-0500
TZOFFSETTO:-0400
TZNAME:EDT
DTSTART:20260308T070000
END:DAYLIGHT
BEGIN:STANDARD
TZOFFSETFROM:-0400
TZOFFSETTO:-0500
TZNAME:EST
DTSTART:20261101T060000
END:STANDARD
BEGIN:DAYLIGHT
TZOFFSETFROM:-0500
TZOFFSETTO:-0400
TZNAME:EDT
DTSTART:20270314T070000
END:DAYLIGHT
BEGIN:STANDARD
TZOFFSETFROM:-0400
TZOFFSETTO:-0500
TZNAME:EST
DTSTART:20271107T060000
END:STANDARD
END:VTIMEZONE
BEGIN:VEVENT
DTSTART;TZID=America/Toronto:20260422T120000
DTEND;TZID=America/Toronto:20260422T130000
DTSTAMP:20260422T095022
CREATED:20260413T200135Z
LAST-MODIFIED:20260413T200135Z
UID:1301-1776859200-1776862800@melvilleunited.com
SUMMARY:Mid-Day Music at Melville
DESCRIPTION:The concert series “Mid-Day Music at Melville”\,presented and performed by pianist and singer Brad Halls\, continues with its 4th season of concerts on Wednesdays at Melville United Church beginning at 12 noon and continuing until about 1 p.m. \nWatch for updates on featured composers and songs for this date. \nWhile there is no admission charge to any of these performances\, a voluntary donation to Melville United Church to help keep the lights on and the piano tuned is always appreciated. \n 
URL:https://melvilleunited.com/event/mid-day-music-at-melville-4/
LOCATION:Melville United Church\, 300 St. Andrew Street West\, Fergus\, ON\, N1M 2W7\, Canada
ATTACH;FMTTYPE=image/jpeg:https://melvilleunited.com/wp-content/uploads/2026/03/Brad-Halls-Wed-music-1.jpg
END:VEVENT
END:VCALENDAR